Workbook

Sheet Note for users
A1: Note for users
A2: Draft Business Plan Financial Calculator
A3: 1.0 About the calculator
A4: The business plan financial calculator will be the tool to generate the financial projection of the business plan based on the certain data inputs. It will be the tool which can be easily used by any professional who understand the basic accounting. The business plan financial calculator will generate following statements automatically based on certain data inputs: 1. Profit and Loss Statement 2. Cash Flow Statement 3. Balance Sheet 4. Depreciation, amortization and tax calculation It will also auto calculate the following financial ratios to understand the viability of the business plan / Full Project Proposal: 1. Break Even Point 2. Internal Rate of Return 3. Net Present Value 4. Return on Capital Employed 5. Project Payback Period 6. DSCR 7.Sensitivity analysis The above ratios will help decision makers for approving the business plan / Full Project Report.
A5: 2.0 Features
A6: 1.0 It helps in preparing financial projections for both type of sub-projects.i.e. Grain and Frutis & Vegetables. 2.0 It can be easily used by any person / professional who understand the basic accounting. 3.0 Assist planners to map marketable surplus of key commodities quickly. 3.0 This tool will generate P & L , Cash flow statement and balance sheet automatically. 4.0 The calculator helps to prepare all categories of business plans envisaged in SMART Project viz. PPs, MAPs, CIIs, Warehousing related) 5.0 It will also calculate all ratios automatically.
A7: 3.0 Preparatory work
A8: 1.0 Please collect basic data of targeted commodities in the cluster accurately (area, productivity and consumption at HH level ) 2.0 Finalize Business activity in consultation with CBO members and officials / experts. 3.0 Accordingly, please add CAPEX details i.e. related to building, machinery and other infrastructure properly. 4.0 In CAPEX SHEET, please refer area and rates mentioned in estimates of civil structures prepared by engineer whereas quotation's in case of machinery and other equipment or material. 5.0 Please write down assumptions clearly for each business activity (example- produce aggregation and bulk marketing in the form of % in Y-1, Y-2.......... )
A9: 4.0 Colour codes used
A10: Colour code | B10: Description
B11: Need to change/Place Values Manually
B12: Need to change figures subject to
A14: 5.0 Guidance note for using calculator
A15: Steps | B15: Sheet name | C15: Process | D15: Sheet No | E15: Remark
A16: A | B16: Sheet in which need to enter data
A17: Step-1 | B17: Grain production details & or F & V production details (Marketable surplus) | C17: Please fill data in yellow colour cells i.e. members no, non-members , average area etc. | D17: Sheet No. 10 for grain and 11 for F & V
A18: Step-2 | B18: CAPEX Details | C18: Kindly fill yellow cells by using rates mentioned in estimates of civil structures and quotation's of machineries and equipment's | D18: Sheet No. 2
A19: Step-3 | B19: Project cost and Means of finance with financial indicators | C19: Please add bank loan per cent if applicable other wise put zero | D19: Sheet No. 1 | E19: Generate automatically
A20: Step-4 | B20: Business activity wise revenue, expenditure and profit calculation
A21: 4.1 | B21: Facility-1 / Business activity -Trading | C21: Please fill necessary details in yellow cells for calculating revenue and expenditure of identified business activities only. | D21: Sheet No. 12
A22: 4.2 | B22: Facility-2 / Business activity - Processing (Grain, pulses, oilseed) | D22: Sheet No. 13
A23: 4.3 | B23: Facility-3 Business activity -Warehouse | D23: Sheet No. 14
A24: 4.4 | B24: Facility-4 Business activity -Custom hiring | D24: Sheet No. 15
A25: 4.5 | B25: Facility-5 Business activity - Agri. Input | D25: Sheet No. 16
A26: 4.6 | B26: Facility-6 Business activity -Processing (Horti. Produce) | D26: Sheet No. 17
A27: Step-5 | B27: Other expenditure and taxes | C27: Please add staff salary and other details in Yellow cell (in 3.1 table only) | D27: Sheet no.3 (Ref. 3.1 table only)
A28: Step-6 | B28: TL repayment schedule | C28: Please add interest rate, tenure and Moratorium Period ( In Month) in green cells | D28: Sheet No. 4
A29: Step-7 | B29: Closing stock and working capital | C29: Please add necessary details in yellow and green cells | D29: Sheet No. 5
A30: B | B30: Auto generating sheets (No need to enter any data)
A31: B1 | B31: Profit and Loss Statement | D31: Sheet No. 6 | E31: Generate automatically
A32: B2 | B32: Cash Flow Statement | D32: Sheet No. 7 | E32: Generate automatically
A33: B3 | B33: Balance Sheet | D33: Sheet No. 8 | E33: Generate automatically
A34: B4 | B34: Financial indicators (IRR, BEP,NPV, ROI, Pay back period, DSCR, sensitivity analysis ) | D34: Sheet No.9 | E34: Generate automatically
A35: B5 | B35: Depreciation, amortization and tax calculation | D35: Sheet No. 3 (Ref. 3.2 & 3.3) | E35: Generate automatically
A36: Step-8 | B36: Copy relevant tables in word file of FPP

Sheet 1.Project Cost and MOF
B2: 1.1 Total Project Cost
B4: Sr. No. | C4: Particular | D4: Amount (Rs.) | E4: Grant (%) | F4: Grant Amount (Rs.)
B5: 1 | C5: ='2.Capex Details'!B2 -> Land and Building | D5: ='2.Capex Details'!G11 -> 21653053 | E5: 0.6 | F5: =D5*E5 -> 12991832
B6: 2 | C6: ='2.Capex Details'!B16 -> Machinery and Equipment | D6: ='2.Capex Details'!G62 -> 3323300 | E6: 0.6 | F6: =D6*E6 -> 1993980
B7: 3 | C7: ='2.Capex Details'!B68 -> Furniture and Fixture | D7: ='2.Capex Details'!F77 -> 601357.98 | E7: 0.6 | F7: =D7*E7 -> 360814.79
B8: 4 | C8: ='2.Capex Details'!B82 -> IT & It Infrastracture | D8: ='2.Capex Details'!F91 -> 0 | E8: 0.6 | F8: =D8*E8 -> 0
B9: 5 | C9: ='2.Capex Details'!B96 -> Transport vehical (Refer van and other) | D9: ='2.Capex Details'!F102 -> 0 | E9: 0.6 | F9: =D9*E9 -> 0
B10: 6 | C10: ='2.Capex Details'!B106 -> Preliminary Expenses | D10: ='2.Capex Details'!D114 -> 1325000 | E10: 0.6 | F10: =D10*E10 -> 795000 | L10: pre-operative
B11: 7 | C11: Working Capital | D11: ='5.Closing Stock & W Capital'!E56 -> 813366.27
B12: Total | D12: =SUM(D5:D11) -> 27716077 | F12: =SUM(F5:F11) -> 16141627
M13: 48
A14: Total Project Costs means the costs incurred or to be incurred by a FPC in connection with or incidental to the Construction and acquisition of assets including preoprtaive expenditure , design, construction and Working Capital | M14: 11.64
M15: =M13+M14 -> 59.64
B16: 1.2 Means of Finance | M16: 19.05
M17: =M15+M16 -> 78.69
B18: Sr. No. | C18: Particular | D18: Bank Loan (% ) | E18: Amount (Rs.) | I18: =277.84*5% -> 13.892
B19: 1 | C19: Govt. Grant under SMART Project | E19: =F12 -> 16141627
B20: 2 | C20: Bank Finance - Long Term Loan | D20: 0.3 | E20: =SUM(D5:D9)*D20 -> 7673313.3
B21: 3 | C21: Own Contribution | E21: =D12-E19-E20 -> 3901137.4
B22: Total | E22: =SUM(E19:E21) -> 27716077
B24: This sheet provide details of how total project cost will raised
B26: 1.3 Financial Indicators
B27: Sr. No. | C27: Financial ratio | D27: Estimated | E27: Result | F27: Permissible limit
B28: 1 | C28: Break Even Point (BEP) | D28: ='9. Financial indiacators'!C49 -> 0.42233401 | E28: Project Viable | F28: BEP shall be less than 60% | G28: <60%
B29: 2 | C29: Avg. Return on Capital Employed Average (ROCE) | D29: ='9. Financial indiacators'!C85 -> 0.2033744 | E29: Project Viable | F29: RoCE for the project shall be more than 20% | G29: >20%
B30: 3 | C30: Internal Rate of Return (IRR) | D30: ='9. Financial indiacators'!C16 -> 0.12057922 | E30: Project Viable | F30: The project internal rate of return shall be more than 12% | G30: >12%
B31: 4 | C31: Net present value (at a discount rate of 10 per cent) | D31: ='9. Financial indiacators'!C73 -> 2443815.8 | E31: NPV is high and positive at a conservative project life of 7 years | F31: With a discount rate of 10% and a span of 7 operational years, the NPV should be positive | G31: Positive
B32: 5 | C32: Payback period | D32: ='9. Financial indiacators'!D101 -> 5.2592499 | E32: Project Viable | F32: The Pack Back Period (Project/ Equity) shall be less than 7 years | G32: <7 years
B33: 6 | C33: Debt Service Coverage Ratio (DSCR) | D33: ='9. Financial indiacators'!C119 -> 2.4769381 | E33: Project Viable | F33: DSCR shall be more than 2 for better performing project. | G33: >2

Sheet 2.Capex Details
A2: 2.1 | B2: Land and Building
B4: Sr. No. | C4: Particular | D4: Unit | E4: No. of Unit | F4: Rate per unit | G4: Amount (Rs.)
B5: 1 | C5: Land | D5: Sq. ft. | G5: Lease
B6: 2 | C6: Shed for Processing Unit for Cleaning Grading (3500 Sq. ft. X 1600 Rs.) | D6: 2500 sq. ft. | E6: 1 | F6: 2515600 | G6: =E6*F6 -> 2515600 | J6: =G6/D6 -> #VALUE!
B7: 3 | C7: Godown | D7: 1800MT | E7: 1 | F7: =10631.92*1800-3 -> 19137453 | G7: =E7*F7 -> 19137453 | J7: =G7/1800 -> 10631.918 | L7: =11000/10.76*1.8 -> 1840.1487 | M7: =12500+10500 -> 23000
G10: =E10*F10 -> 0 | J10: =5600125/3500 -> 1600.0357
B11: Total | G11: =SUM(G6:G10) -> 21653053
K13: =19137600 -> 19137600 | M13: =5600125/3500 -> 1600.0357
B14: This Sheet provide details of land and various construction, including area, rate per unit and total amount
K15: =19137453/1800 -> 10631.918
A16: 2.2 | B16: Machinery and Equipment
B18: Sr. No. | C18: Description | D18: Capacity | E18: No. Required | F18: Rate | G18: Amount (Rs.) | H18: Total HP
B20: A | C20: Custom Hiring | G20: =E20*F20 -> 0 | J20: =2515600/2500 -> 1006.24 | L20: =G7/11000 -> 1739.7685
G21: =E21*F21 -> 0
G22: =E22*F22 -> 0
G23: =E23*F23 -> 0
G28: =E28*F28 -> 0
G29: =E29*F29 -> 0
G30: =E30*F30 -> 0
B31: Subtotal | G31: =SUM(G20:G30) -> 0 | H31: =SUM(H20:H30) -> 0
B32: B | C32: Dal Mill Unit
G33: =E33*F33 -> 0
G34: =E34*F34 -> 0
G35: =E35*F35 -> 0
G36: =E36*F36 -> 0
G37: =E37*F37 -> 0
G38: =E38*F38 -> 0
G39: =F39 -> 0
G40: =F40 -> 0
G41: =F41 -> 0
G42: =F42 -> 0
G43: =F43 -> 0
G44: =F44 -> 0
G45: =F45 -> 0
B46: Subtotal | G46: =SUM(G33:G45) -> 0 | H46: =SUM(H33:H45) -> 0
B48: C | C48: Cleaning & Grading | G48: =E48*F48 -> 0
B49: 1 | C49: Cleaning & Grading Fully Automatic Plant | D49: 2TPH | E49: 1 | F49: 2574000 | G49: =E49*F49 -> 2574000 | H49: 50
B50: 2 | C50: 50 MT Fully Electronic Weighbridge | D50: 50 MT | E50: 1 | F50: 749300 | G50: =E50*F50 -> 749300
G51: =E51*F51 -> 0
G52: =E52*F52 -> 0
...

Sheet 3.Other Exp & Taxes
A2: 3.1 Schedule of General Admin Expenses
E4: 1 | F4: =(E4*5%)+E4 -> 1.05 | G4: =(F4*5%)+F4 -> 1.1025 | H4: =(G4*5%)+G4 -> 1.157625 | I4: =(H4*5%)+H4 -> 1.2155063 | J4: =(I4*5%)+I4 -> 1.2762816 | K4: =(J4*5%)+J4 -> 1.3400956
A6: Particulars | B6: Unit | C6: No.of Unit | D6: Unit Cost | E6: Y1 | F6: Y2 | G6: Y3 | H6: Y4 | I6: Y5 | J6: Y6 | K6: Y7
A8: Manager | B8: No. | C8: 1 | D8: 50000 | E8: =$C8*$D8*12*E$4 -> 600000 | F8: =$C8*$D8*12*F$4 -> 630000 | G8: =$C8*$D8*12*G$4 -> 661500 | H8: =$C8*$D8*12*H$4 -> 694575 | I8: =$C8*$D8*12*I$4 -> 729303.75 | J8: =$C8*$D8*12*J$4 -> 765768.94 | K8: =$C8*$D8*12*K$4 -> 804057.38
A9: Accountant | B9: No. | C9: 1 | D9: 22000 | E9: =$C9*$D9*12*E$4 -> 264000 | F9: =$C9*$D9*12*F$4 -> 277200 | G9: =$C9*$D9*12*G$4 -> 291060 | H9: =$C9*$D9*12*H$4 -> 305613 | I9: =$C9*$D9*12*I$4 -> 320893.65 | J9: =$C9*$D9*12*J$4 -> 336938.33 | K9: =$C9*$D9*12*K$4 -> 353785.25
A10: Clerk | B10: No. | C10: 5 | D10: 20000 | E10: =$C10*$D10*12*E$4 -> 1200000 | F10: =$C10*$D10*12*F$4 -> 1260000 | G10: =$C10*$D10*12*G$4 -> 1323000 | H10: =$C10*$D10*12*H$4 -> 1389150 | I10: =$C10*$D10*12*I$4 -> 1458607.5 | J10: =$C10*$D10*12*J$4 -> 1531537.9 | K10: =$C10*$D10*12*K$4 -> 1608114.8
A11: Watchmen | B11: No. | C11: 2 | D11: 12000 | E11: =$C11*$D11*12*E$4 -> 288000 | F11: =$C11*$D11*12*F$4 -> 302400 | G11: =$C11*$D11*12*G$4 -> 317520 | H11: =$C11*$D11*12*H$4 -> 333396 | I11: =$C11*$D11*12*I$4 -> 350065.8 | J11: =$C11*$D11*12*J$4 -> 367569.09 | K11: =$C11*$D11*12*K$4 -> 385947.54
A12: Telephone and internet Exp | B12: Months | C12: 12 | D12: 10000 | E12: =$C12*$D12*E$4 -> 120000 | F12: =$C12*$D12*F$4 -> 126000 | G12: =$C12*$D12*G$4 -> 132300 | H12: =$C12*$D12*H$4 -> 138915 | I12: =$C12*$D12*I$4 -> 145860.75 | J12: =$C12*$D12*J$4 -> 153153.79 | K12: =$C12*$D12*K$4 -> 160811.48
A13: Office Electricity Exp | B13: Months | C13: 12 | D13: 5000 | E13: =$C13*$D13*E$4 -> 60000 | F13: =$C13*$D13*F$4 -> 63000 | G13: =$C13*$D13*G$4 -> 66150 | H13: =$C13*$D13*H$4 -> 69457.5 | I13: =$C13*$D13*I$4 -> 72930.375 | J13: =$C13*$D13*J$4 -> 76576.894 | K13: =$C13*$D13*K$4 -> 80405.738
A14: Printing & Stationary | B14: Months | C14: 12 | D14: 5000 | E14: =$C14*$D14*E$4 -> 60000 | F14: =$C14*$D14*F$4 -> 63000 | G14: =$C14*$D14*G$4 -> 66150 | H14: =$C14*$D14*H$4 -> 69457.5 | I14: =$C14*$D14*I$4 -> 72930.375 | J14: =$C14*$D14*J$4 -> 76576.894 | K14: =$C14*$D14*K$4 -> 80405.738
A15: Land Lease | B15: Months | C15: 12 | D15: 100 | E15: =$C15*$D15*E$4 -> 1200 | F15: =$C15*$D15*F$4 -> 1260 | G15: =$C15*$D15*G$4 -> 1323 | H15: =$C15*$D15*H$4 -> 1389.15 | I15: =$C15*$D15*I$4 -> 1458.6075 | J15: =$C15*$D15*J$4 -> 1531.5379 | K15: =$C15*$D15*K$4 -> 1608.1148
A16: Misc.expenses | B16: Months | C16: 12 | D16: 10000 | E16: =$C16*$D16*E$4 -> 120000 | F16: =$C16*$D16*F$4 -> 126000 | G16: =$C16*$D16*G$4 -> 132300 | H16: =$C16*$D16*H$4 -> 138915 | I16: =$C16*$D16*I$4 -> 145860.75 | J16: =$C16*$D16*J$4 -> 153153.79 | K16: =$C16*$D16*K$4 -> 160811.48
A17: Audit and Legal Compliences expenses | B17: Lumsum | C17: 1 | D17: 100000 | E17: =$D17*E$4*$C17 -> 100000 | F17: =$D17*F$4*$C17 -> 105000 | G17: =$D17*G$4*$C17 -> 110250 | H17: =$D17*H$4*$C17 -> 115762.5 | I17: =$D17*I$4*$C17 -> 121550.63 | J17: =$D17*J$4*$C17 -> 127628.16 | K17: =$D17*K$4*$C17 -> 134009.56
E18: =$D18*E$4*$C18 -> 0 | F18: =$D18*F$4*$C18 -> 0 | G18: =$D18*G$4*$C18 -> 0 | H18: =$D18*H$4*$C18 -> 0 | I18: =$D18*I$4*$C18 -> 0 | J18: =$D18*J$4*$C18 -> 0 | K18: =$D18*K$4*$C18 -> 0
E19: =$D19*E$4*$C19 -> 0 | F19: =$D19*F$4*$C19 -> 0 | G19: =$D19*G$4*$C19 -> 0 | H19: =$D19*H$4*$C19 -> 0 | I19: =$D19*I$4*$C19 -> 0 | J19: =$D19*J$4*$C19 -> 0 | K19: =$D19*K$4*$C19 -> 0
E20: =$D20*E$4*$C20 -> 0 | F20: =$D20*F$4*$C20 -> 0 | G20: =$D20*G$4*$C20 -> 0 | H20: =$D20*H$4*$C20 -> 0 | I20: =$D20*I$4*$C20 -> 0 | J20: =$D20*J$4*$C20 -> 0 | K20: =$D20*K$4*$C20 -> 0
E21: =$D21*E$4*$C21 -> 0 | F21: =$D21*F$4*$C21 -> 0 | G21: =$D21*G$4*$C21 -> 0 | H21: =$D21*H$4*$C21 -> 0 | I21: =$D21*I$4*$C21 -> 0 | J21: =$D21*J$4*$C21 -> 0 | K21: =$D21*K$4*$C21 -> 0
E22: =$D22*E$4*$C22 -> 0 | F22: =$D22*F$4*$C22 -> 0 | G22: =$D22*G$4*$C22 -> 0 | H22: =$D22*H$4*$C22 -> 0 | I22: =$D22*I$4*$C22 -> 0 | J22: =$D22*J$4*$C22 -> 0 | K22: =$D22*K$4*$C22 -> 0
E23: =$D23*E$4*$C23 -> 0 | F23: =$D23*F$4*$C23 -> 0 | G23: =$D23*G$4*$C23 -> 0 | H23: =$D23*H$4*$C23 -> 0 | I23: =$D23*I$4*$C23 -> 0 | J23: =$D23*J$4*$C23 -> 0 | K23: =$D23*K$4*$C23 -> 0
A24: Total Admin Expense | E24: =SUM(E8:E23) -> 2813200 | F24: =SUM(F8:F23) -> 2953860 | G24: =SUM(G8:G23) -> 3101553 | H24: =SUM(H8:H23) -> 3256630.7 | I24: =SUM(I8:I23) -> 3419462.2 | J24: =SUM(J8:J23) -> 3590435.3 | K24: =SUM(K8:K23) -> 3769957.1
A30: 3.2 Depreciation
C32: As per companies Act | K32: As per IT Act
A33: Particulars | C33: Y1 | D33: Y2 | E33: Y3 | F33: Y4 | G33: Y5 | H33: Y6 | I33: Y7 | K33: Y1 | L33: Y2 | M33: Y3 | N33: Y4 | O33: Y5 | P33: Y6 | Q33: Y7
A34: Assets
A37: Building
A38: Asset Value | C38: ='1.Project Cost and MOF'!D5 -> 21653053 | D38: =C41 -> 20966651 | E38: =D41 -> 20280249 | F38: =E41 -> 19593848 | G38: =F41 -> 18907446 | H38: =G41 -> 18221044 | I38: =H41 -> 17534642 | K38: =C38 -> 21653053 | L38: =K41 -> 19487748 | M38: =L41 -> 17538973 | N38: =M41 -> 15785076 | O38: =N41 -> 14206568 | P38: =O41 -> 12785911 | Q38: =P41 -> 11507320
A39: Depreciation | C39: =$C$38*$B$75 -> 686401.78 | D39: =$C$38*$B$75 -> 686401.78 | E39: =$C$38*$B$75 -> 686401.78 | F39: =$C$38*$B$75 -> 686401.78 | G39: =$C$38*$B$75 -> 686401.78 | H39: =$C$38*$B$75 -> 686401.78 | I39: =$C$38*$B$75 -> 686401.78 | K39: =K38*$C$75 -> 2165305.3 | L39: =L38*$C$75 -> 1948774.8 | M39: =M38*$C$75 -> 1753897.3 | N39: =N38*$C$75 -> 1578507.6 | O39: =O38*$C$75 -> 1420656.8 | P39: =P38*$C$75 -> 1278591.1 | Q39: =Q38*$C$75 -> 1150732
A40: Accumulated Depreciation | C40: =C39 -> 686401.78 | D40: =C40+D39 -> 1372803.6 | E40: =D40+E39 -> 2059205.3 | F40: =E40+F39 -> 2745607.1 | G40: =F40+G39 -> 3432008.9 | H40: =G40+H39 -> 4118410.7 | I40: =H40+I39 -> 4804812.5 | K40: =K39 -> 2165305.3 | L40: =K40+L39 -> 4114080.1 | M40: =L40+M39 -> 5867977.4 | N40: =M40+N39 -> 7446484.9 | O40: =N40+O39 -> 8867141.7 | P40: =O40+P39 -> 10145733 | Q40: =P40+Q39 -> 11296465
A41: Net Fixed Assets | C41: =C38-C39 -> 20966651 | D41: =D38-D39 -> 20280249 | E41: =E38-E39 -> 19593848 | F41: =F38-F39 -> 18907446 | G41: =G38-G39 -> 18221044 | H41: =H38-H39 -> 17534642 | I41: =I38-I39 -> 16848241 | K41: =K38-K39 -> 19487748 | L41: =L38-L39 -> 17538973 | M41: =M38-M39 -> 15785076 | N41: =N38-N39 -> 14206568 | O41: =O38-O39 -> 12785911 | P41: =P38-P39 -> 11507320 | Q41: =Q38-Q39 -> 10356588
A43: Plant and Machinary
A44: Asset Value | C44: ='1.Project Cost and MOF'!D6 -> 3323300 | D44: =C47 -> 3112935.1 | E44: =D47 -> 2902570.2 | F44: =E47 -> 2692205.3 | G44: =F47 -> 2481840.4 | H44: =G47 -> 2271475.5 | I44: =H47 -> 2061110.7 | K44: =C44 -> 3323300 | L44: =K47 -> 2824805 | M44: =L47 -> 2401084.2 | N44: =M47 -> 2040921.6 | O44: =N47 -> 1734783.4 | P44: =O47 -> 1474565.9 | Q44: =P47 -> 1253381
A45: Depreciation | C45: =$C$44*$B$79 -> 210364.89 | D45: =$C$44*$B$79 -> 210364.89 | E45: =$C$44*$B$79 -> 210364.89 | F45: =$C$44*$B$79 -> 210364.89 | G45: =$C$44*$B$79 -> 210364.89 | H45: =$C$44*$B$79 -> 210364.89 | I45: =$C$44*$B$79 -> 210364.89 | K45: =K44*$C$79 -> 498495 | L45: =L44*$C$79 -> 423720.75 | M45: =M44*$C$79 -> 360162.64 | N45: =N44*$C$79 -> 306138.24 | O45: =O44*$C$79 -> 260217.51 | P45: =P44*$C$79 -> 221184.88 | Q45: =Q44*$C$79 -> 188007.15
A46: Accumulated Depreciation | C46: =C45 -> 210364.89 | D46: =C46+D45 -> 420729.78 | E46: =D46+E45 -> 631094.67 | F46: =E46+F45 -> 841459.56 | G46: =F46+G45 -> 1051824.4 | H46: =G46+H45 -> 1262189.3 | I46: =H46+I45 -> 1472554.2 | K46: =K45 -> 498495 | L46: =K46+L45 -> 922215.75 | M46: =L46+M45 -> 1282378.4 | N46: =M46+N45 -> 1588516.6 | O46: =N46+O45 -> 1848734.1 | P46: =O46+P45 -> 2069919 | Q46: =P46+Q45 -> 2257926.2
A47: Net Fixed Assets | C47: =C44-C45 -> 3112935.1 | D47: =D44-D45 -> 2902570.2 | E47: =E44-E45 -> 2692205.3 | F47: =F44-F45 -> 2481840.4 | G47: =G44-G45 -> 2271475.5 | H47: =H44-H45 -> 2061110.7 | I47: =I44-I45 -> 1850745.8 | K47: =K44-K45 -> 2824805 | L47: =L44-L45 -> 2401084.2 | M47: =M44-M45 -> 2040921.6 | N47: =N44-N45 -> 1734783.4 | O47: =O44-O45 -> 1474565.9 | P47: =P44-P45 -> 1253381 | Q47: =Q44-Q45 -> 1065373.8
A49: Furniture and Electrification
A50: Asset Value | C50: ='1.Project Cost and MOF'!D7 -> 601357.98 | D50: =C53 -> 541222.18 | E50: =D53 -> 481086.38 | F50: =E53 -> 420950.59 | G50: =F53 -> 360814.79 | H50: =G53 -> 300678.99 | I50: =H53 -> 240543.19 | K50: =C50 -> 601357.98 | L50: =K53 -> 541222.18 | M50: =L53 -> 487099.96 | N50: =M53 -> 438389.97 | O50: =N53 -> 394550.97 | P50: =O53 -> 355095.87 | Q50: =P53 -> 319586.29
A51: Depreciation | C51: =$C$50*$B$76 -> 60135.798 | D51: =$C$50*$B$76 -> 60135.798 | E51: =$C$50*$B$76 -> 60135.798 | F51: =$C$50*$B$76 -> 60135.798 | G51: =$C$50*$B$76 -> 60135.798 | H51: =$C$50*$B$76 -> 60135.798 | I51: =$C$50*$B$76 -> 60135.798 | K51: =K50*$C$76 -> 60135.798 | L51: =L50*$C$76 -> 54122.218 | M51: =M50*$C$76 -> 48709.996 | N51: =N50*$C$76 -> 43838.997 | O51: =O50*$C$76 -> 39455.097 | P51: =P50*$C$76 -> 35509.587 | Q51: =Q50*$C$76 -> 31958.629
A52: Accumulated Depreciation | C52: =C51 -> 60135.798 | D52: =C52+D51 -> 120271.6 | E52: =D52+E51 -> 180407.39 | F52: =E52+F51 -> 240543.19 | G52: =F52+G51 -> 300678.99 | H52: =G52+H51 -> 360814.79 | I52: =H52+I51 -> 420950.59 | K52: =K51 -> 60135.798 | L52: =K52+L51 -> 114258.02 | M52: =L52+M51 -> 162968.01 | N52: =M52+N51 -> 206807.01 | O52: =N52+O51 -> 246262.11 | P52: =O52+P51 -> 281771.69 | Q52: =P52+Q51 -> 313730.32
A53: Net Fixed Assets | C53: =C50-C51 -> 541222.18 | D53: =D50-D51 -> 481086.38 | E53: =E50-E51 -> 420950.59 | F53: =F50-F51 -> 360814.79 | G53: =G50-G51 -> 300678.99 | H53: =H50-H51 -> 240543.19 | I53: =I50-I51 -> 180407.39 | K53: =K50-K51 -> 541222.18 | L53: =L50-L51 -> 487099.96 | M53: =M50-M51 -> 438389.97 | N53: =N50-N51 -> 394550.97 | O53: =O50-O51 -> 355095.87 | P53: =P50-P51 -> 319586.29 | Q53: =Q50-Q51 -> 287627.66
A55: Vehical
...

Sheet 4.TL repayment sch
A2: 4.1 Repayment Schedule
C4: Loan Amount (Rs) | D4: ='1.Project Cost and MOF'!E20 -> 7673313.3
C5: Interest rate /PA | D5: 0.14
C6: Loan Tenure in years | D6: 5
C7: Moratorium Period ( In Months) | D7: 6
C8: EMI | D8: =PMT(D5/12,(D6-(D7/12))*12,-D4) -> 192329.12
A9: Year | B9: Particluars | C9: Opening Balance | D9: Interest | E9: Pricipal Repayment | F9: EMI | G9: Closing Outstanding
A10: Year 1 | B10: Month 1 | C10: =D4 -> 7673313.3 | D10: =C10*$D$5/12 -> 89521.988 | E10: =F10-D10 -> 0 | F10: =D10 -> 89521.988 | G10: =C10-E10 -> 7673313.3
B11: Month 2 | C11: =G10 -> 7673313.3 | D11: =C11*$D$5/12 -> 89521.988 | E11: =F11-D11 -> 0 | F11: =D11 -> 89521.988 | G11: =C11-E11 -> 7673313.3
B12: Month 3 | C12: =G11 -> 7673313.3 | D12: =C12*$D$5/12 -> 89521.988 | E12: =F12-D12 -> 0 | F12: =D12 -> 89521.988 | G12: =C12-E12 -> 7673313.3
B13: Month 4 | C13: =G12 -> 7673313.3 | D13: =C13*$D$5/12 -> 89521.988 | E13: =F13-D13 -> 0 | F13: =D13 -> 89521.988 | G13: =C13-E13 -> 7673313.3
B14: Month 5 | C14: =G13 -> 7673313.3 | D14: =C14*$D$5/12 -> 89521.988 | E14: =F14-D14 -> 0 | F14: =D14 -> 89521.988 | G14: =C14-E14 -> 7673313.3
B15: Month 6 | C15: =G14 -> 7673313.3 | D15: =C15*$D$5/12 -> 89521.988 | E15: =F15-D15 -> 0 | F15: =D15 -> 89521.988 | G15: =C15-E15 -> 7673313.3
B16: Month 7 | C16: =G15 -> 7673313.3 | D16: =C16*$D$5/12 -> 89521.988 | E16: =F16-D16 -> 102807.13 | F16: =$D$8 -> 192329.12 | G16: =C16-E16 -> 7570506.2
B17: Month 8 | C17: =G16 -> 7570506.2 | D17: =C17*$D$5/12 -> 88322.572 | E17: =F17-D17 -> 104006.55 | F17: =$D$8 -> 192329.12 | G17: =C17-E17 -> 7466499.6
B18: Month 9 | C18: =G17 -> 7466499.6 | D18: =C18*$D$5/12 -> 87109.162 | E18: =F18-D18 -> 105219.96 | F18: =$D$8 -> 192329.12 | G18: =C18-E18 -> 7361279.6
B19: Month 10 | C19: =G18 -> 7361279.6 | D19: =C19*$D$5/12 -> 85881.596 | E19: =F19-D19 -> 106447.53 | F19: =$D$8 -> 192329.12 | G19: =C19-E19 -> 7254832.1
B20: Month 11 | C20: =G19 -> 7254832.1 | D20: =C20*$D$5/12 -> 84639.708 | E20: =F20-D20 -> 107689.41 | F20: =$D$8 -> 192329.12 | G20: =C20-E20 -> 7147142.7
B21: Month 12 | C21: =G20 -> 7147142.7 | D21: =C21*$D$5/12 -> 83383.332 | E21: =F21-D21 -> 108945.79 | F21: =$D$8 -> 192329.12 | G21: =C21-E21 -> 7038196.9
A22: Year 2 | B22: Month 13 | C22: =G21 -> 7038196.9 | D22: =C22*$D$5/12 -> 82112.297 | E22: =F22-D22 -> 110216.83 | F22: =$D$8 -> 192329.12 | G22: =C22-E22 -> 6927980.1
B23: Month 14 | C23: =G22 -> 6927980.1 | D23: =C23*$D$5/12 -> 80826.434 | E23: =F23-D23 -> 111502.69 | F23: =$D$8 -> 192329.12 | G23: =C23-E23 -> 6816477.4
B24: Month 15 | C24: =G23 -> 6816477.4 | D24: =C24*$D$5/12 -> 79525.57 | E24: =F24-D24 -> 112803.55 | F24: =$D$8 -> 192329.12 | G24: =C24-E24 -> 6703673.9
B25: Month 16 | C25: =G24 -> 6703673.9 | D25: =C25*$D$5/12 -> 78209.528 | E25: =F25-D25 -> 114119.59 | F25: =$D$8 -> 192329.12 | G25: =C25-E25 -> 6589554.3
B26: Month 17 | C26: =G25 -> 6589554.3 | D26: =C26*$D$5/12 -> 76878.133 | E26: =F26-D26 -> 115450.99 | F26: =$D$8 -> 192329.12 | G26: =C26-E26 -> 6474103.3
B27: Month 18 | C27: =G26 -> 6474103.3 | D27: =C27*$D$5/12 -> 75531.205 | E27: =F27-D27 -> 116797.92 | F27: =$D$8 -> 192329.12 | G27: =C27-E27 -> 6357305.3
B28: Month 19 | C28: =G27 -> 6357305.3 | D28: =C28*$D$5/12 -> 74168.562 | E28: =F28-D28 -> 118160.56 | F28: =$D$8 -> 192329.12 | G28: =C28-E28 -> 6239144.8
B29: Month 20 | C29: =G28 -> 6239144.8 | D29: =C29*$D$5/12 -> 72790.023 | E29: =F29-D29 -> 119539.1 | F29: =$D$8 -> 192329.12 | G29: =C29-E29 -> 6119605.7
B30: Month 21 | C30: =G29 -> 6119605.7 | D30: =C30*$D$5/12 -> 71395.4 | E30: =F30-D30 -> 120933.72 | F30: =$D$8 -> 192329.12 | G30: =C30-E30 -> 5998672
B31: Month 22 | C31: =G30 -> 5998672 | D31: =C31*$D$5/12 -> 69984.506 | E31: =F31-D31 -> 122344.62 | F31: =$D$8 -> 192329.12 | G31: =C31-E31 -> 5876327.3
B32: Month 23 | C32: =G31 -> 5876327.3 | D32: =C32*$D$5/12 -> 68557.152 | E32: =F32-D32 -> 123771.97 | F32: =$D$8 -> 192329.12 | G32: =C32-E32 -> 5752555.4
B33: Month 24 | C33: =G32 -> 5752555.4 | D33: =C33*$D$5/12 -> 67113.146 | E33: =F33-D33 -> 125215.98 | F33: =$D$8 -> 192329.12 | G33: =C33-E33 -> 5627339.4
A34: Year 3 | B34: Month 25 | C34: =G33 -> 5627339.4 | D34: =C34*$D$5/12 -> 65652.293 | E34: =F34-D34 -> 126676.83 | F34: =$D$8 -> 192329.12 | G34: =C34-E34 -> 5500662.6
B35: Month 26 | C35: =G34 -> 5500662.6 | D35: =C35*$D$5/12 -> 64174.397 | E35: =F35-D35 -> 128154.73 | F35: =$D$8 -> 192329.12 | G35: =C35-E35 -> 5372507.8
B36: Month 27 | C36: =G35 -> 5372507.8 | D36: =C36*$D$5/12 -> 62679.258 | E36: =F36-D36 -> 129649.86 | F36: =$D$8 -> 192329.12 | G36: =C36-E36 -> 5242858
B37: Month 28 | C37: =G36 -> 5242858 | D37: =C37*$D$5/12 -> 61166.676 | E37: =F37-D37 -> 131162.45 | F37: =$D$8 -> 192329.12 | G37: =C37-E37 -> 5111695.5
B38: Month 29 | C38: =G37 -> 5111695.5 | D38: =C38*$D$5/12 -> 59636.448 | E38: =F38-D38 -> 132692.67 | F38: =$D$8 -> 192329.12 | G38: =C38-E38 -> 4979002.9
B39: Month 30 | C39: =G38 -> 4979002.9 | D39: =C39*$D$5/12 -> 58088.367 | E39: =F39-D39 -> 134240.76 | F39: =$D$8 -> 192329.12 | G39: =C39-E39 -> 4844762.1
B40: Month 31 | C40: =G39 -> 4844762.1 | D40: =C40*$D$5/12 -> 56522.225 | E40: =F40-D40 -> 135806.9 | F40: =$D$8 -> 192329.12 | G40: =C40-E40 -> 4708955.2
B41: Month 32 | C41: =G40 -> 4708955.2 | D41: =C41*$D$5/12 -> 54937.811 | E41: =F41-D41 -> 137391.31 | F41: =$D$8 -> 192329.12 | G41: =C41-E41 -> 4571563.9
B42: Month 33 | C42: =G41 -> 4571563.9 | D42: =C42*$D$5/12 -> 53334.912 | E42: =F42-D42 -> 138994.21 | F42: =$D$8 -> 192329.12 | G42: =C42-E42 -> 4432569.7
...

Sheet 5.Closing Stock & W Capital
C2: 5.1 Closing and Opening Stock Calculation
C4: Particulars | E4: Y1 | F4: Y2 | G4: Y3 | H4: Y4 | I4: Y5 | J4: Y6 | K4: Y7
C5: Opening Stock | N5: Grain Processing - Dal Mill | U5: F & V Processing - Pomegrantes
C6: Agri Input | F6: =E15 -> 0 | G6: =F15 -> 0 | H6: =G15 -> 0 | I6: =H15 -> 0 | J6: =I15 -> 0 | K6: =J15 -> 0 | N6: Cost Of Production/Quintals | U6: Cost Of Production/Quintals
C7: Trading | F7: =E16 -> 1053433.1 | G7: =F16 -> 1382630.9 | H7: =G16 -> 1742115 | I7: =H16 -> 2134090.8 | J7: =I16 -> 2560909 | K7: =J16 -> 3025073.7 | N7: Particulars | O7: Bengal Gram | P7: Red Gram | Q7: Black Gram | R7: Green Gram | U7: Particulars | V7: Pomegranate
C8: Grain Processing | F8: =E17 -> 1104760.8 | G8: =F17 -> 1449794.3 | H8: =G17 -> 1826740.8 | I8: =H17 -> 2237757.5 | J8: =I17 -> 2685309 | K8: =J17 -> 3172021.3 | N8: Purachse Price | O8: ='13.Facility 2 Grain Processing'!C159 -> 5200 | P8: ='13.Facility 2 Grain Processing'!C160 -> 0 | Q8: ='13.Facility 2 Grain Processing'!C161 -> 6000 | R8: ='13.Facility 2 Grain Processing'!C162 -> 5900 | U8: Purchase Price | V8: ='17.Facility 6 Horti Processing '!C163 -> 6000
C9: =C18 -> Horticulture Processing | F9: =E18 -> 0 | G9: =F18 -> 0 | H9: =G18 -> 0 | I9: =H18 -> 0 | J9: =I18 -> 0 | K9: =J18 -> 0 | N9: ='13.Facility 2 Grain Processing'!A169 -> Oil (Liters) | O9: =('13.Facility 2 Grain Processing'!B169*'13.Facility 2 Grain Processing'!C169/1000)*100 -> 0 | P9: =O9 -> 0 | Q9: =P9 -> 0 | R9: =Q9 -> 0 | U9: ='17.Facility 6 Horti Processing '!A164 -> Other Consumbales | V9: ='17.Facility 6 Horti Processing '!C164 -> 2000
N10: ='13.Facility 2 Grain Processing'!A170 -> Daily Labour | O10: =('13.Facility 2 Grain Processing'!B170*'13.Facility 2 Grain Processing'!C170)/('13.Facility 2 Grain Processing'!B5*'13.Facility 2 Grain Processing'!B6) -> 9.375 | P10: =O10 -> 9.375 | Q10: =P10 -> 9.375 | R10: =Q10 -> 9.375 | U10: ='17.Facility 6 Horti Processing '!A165 -> Daily Labour | V10: ='17.Facility 6 Horti Processing '!B165*'17.Facility 6 Horti Processing '!C165/('17.Facility 6 Horti Processing '!B5*'17.Facility 6 Horti Processing '!B6) -> 187.5
N11: ='13.Facility 2 Grain Processing'!A171 -> Electricity Charges | O11: =('13.Facility 2 Grain Processing'!B171*'13.Facility 2 Grain Processing'!C171)/('13.Facility 2 Grain Processing'!B5*'13.Facility 2 Grain Processing'!B6) -> 0 | P11: =O11 -> 0 | Q11: =P11 -> 0 | R11: =Q11 -> 0 | U11: ='17.Facility 6 Horti Processing '!A166 -> Electricity Charges | V11: ='17.Facility 6 Horti Processing '!B166*'17.Facility 6 Horti Processing '!C166/('17.Facility 6 Horti Processing '!B5*'17.Facility 6 Horti Processing '!B6) -> 0
C12: Total | F12: =SUM(F6:F11) -> 2158193.8 | G12: =SUM(G6:G11) -> 2832425.2 | H12: =SUM(H6:H11) -> 3568855.8 | I12: =SUM(I6:I11) -> 4371848.3 | J12: =SUM(J6:J11) -> 5246218 | K12: =SUM(K6:K11) -> 6197095 | N12: ='13.Facility 2 Grain Processing'!A172 -> Loading/Unloading Charges | O12: ='13.Facility 2 Grain Processing'!C172*2 -> 20 | P12: =O12 -> 20 | Q12: =P12 -> 20 | R12: =Q12 -> 20 | U12: ='17.Facility 6 Horti Processing '!A167 -> Loading/Unloading Charges | V12: ='17.Facility 6 Horti Processing '!C167 -> 10
N13: ='13.Facility 2 Grain Processing'!A173 -> packaging Exp | O13: ='13.Facility 2 Grain Processing'!C173*2 -> 40 | P13: =O13 -> 40 | Q13: =P13 -> 40 | R13: =Q13 -> 40 | U13: ='17.Facility 6 Horti Processing '!A168 -> packaging Exp | V13: ='17.Facility 6 Horti Processing '!C168*100 -> 200
C14: Closing Stock
C15: =C6 -> Agri Input | D15: 0.05 | E15: =SUM('16.Facility 5 Agri Input'!D197:D252)*$D$15 -> 0 | F15: =SUM('16.Facility 5 Agri Input'!E197:E252)*$D$15 -> 0 | G15: =SUM('16.Facility 5 Agri Input'!F197:F252)*$D$15 -> 0 | H15: =SUM('16.Facility 5 Agri Input'!G197:G252)*$D$15 -> 0 | I15: =SUM('16.Facility 5 Agri Input'!H197:H252)*$D$15 -> 0 | J15: =SUM('16.Facility 5 Agri Input'!I197:I252)*$D$15 -> 0 | K15: =SUM('16.Facility 5 Agri Input'!J197:J252)*$D$15 -> 0
C16: =C7 -> Trading | D16: 0.05 | E16: =SUM('12.Facility 1 - Trading'!D233:D284)*$D$16 -> 1053433.1 | F16: =SUM('12.Facility 1 - Trading'!E233:E284)*$D$16 -> 1382630.9 | G16: =SUM('12.Facility 1 - Trading'!F233:F284)*$D$16 -> 1742115 | H16: =SUM('12.Facility 1 - Trading'!G233:G284)*$D$16 -> 2134090.8 | I16: =SUM('12.Facility 1 - Trading'!H233:H284)*$D$16 -> 2560909 | J16: =SUM('12.Facility 1 - Trading'!I233:I284)*$D$16 -> 3025073.7 | K16: =SUM('12.Facility 1 - Trading'!J233:J284)*$D$16 -> 3529252.7 | N16: Total Cost of Production | O16: =SUM(O8:O13) -> 5269.375 | P16: =SUM(P8:P13) -> 69.375 | Q16: =SUM(Q8:Q13) -> 6069.375 | R16: =SUM(R8:R13) -> 5969.375 | U16: Total | V16: =SUM(V8:V15) -> 8397.5
C17: =C8 -> Grain Processing | D17: 0.05 | E17: =SUM('13.Facility 2 Grain Processing'!D159:D173)*$D$17 -> 1104760.8 | F17: =SUM('13.Facility 2 Grain Processing'!E159:E173)*$D$17 -> 1449794.3 | G17: =SUM('13.Facility 2 Grain Processing'!F159:F173)*$D$17 -> 1826740.8 | H17: =SUM('13.Facility 2 Grain Processing'!G159:G173)*$D$17 -> 2237757.5 | I17: =SUM('13.Facility 2 Grain Processing'!H159:H173)*$D$17 -> 2685309 | J17: =SUM('13.Facility 2 Grain Processing'!I159:I173)*$D$17 -> 3172021.3 | K17: =SUM('13.Facility 2 Grain Processing'!J159:J173)*$D$17 -> 3700691.5
C18: Horticulture Processing | D18: 0 | E18: =SUM('17.Facility 6 Horti Processing '!D163:D168)*$D$18 -> 0 | F18: =SUM('17.Facility 6 Horti Processing '!E163:E168)*$D$18 -> 0 | G18: =SUM('17.Facility 6 Horti Processing '!F163:F168)*$D$18 -> 0 | H18: =SUM('17.Facility 6 Horti Processing '!G163:G168)*$D$18 -> 0 | I18: =SUM('17.Facility 6 Horti Processing '!H163:H168)*$D$18 -> 0 | J18: =SUM('17.Facility 6 Horti Processing '!I163:I168)*$D$18 -> 0 | K18: =SUM('17.Facility 6 Horti Processing '!J163:J168)*$D$18 -> 0
C21: Total | E21: =SUM(E15:E20) -> 2158193.8 | F21: =SUM(F15:F20) -> 2832425.2 | G21: =SUM(G15:G20) -> 3568855.8 | H21: =SUM(H15:H20) -> 4371848.3 | I21: =SUM(I15:I20) -> 5246218 | J21: =SUM(J15:J20) -> 6197095 | K21: =SUM(K15:K20) -> 7229944.2
A23: Closing Stock is an amount of unsold stock lying in your business on a given date. In simple words, it's the inventory which is still in your business waiting to be sold for a given period. The closing stock can be in various forms such as raw materials, in-process goods (WIP) or finished goods
A24: Assumption:
A25: 1 | B25: Closing stock of each facility is 5%
B28: 5.2 Working Capital Calculation
B30: Sr. No. | C30: Particulars | D30: Duration (In days) | E30: Amount (Rs.)
E31: Y1 | F31: Y2 | G31: Y3 | H31: Y4 | I31: Y5 | J31: Y6 | K31: Y7
B33: A | C33: Accounts Receivables (Debtors)
B34: 1 | C34: Agri Input | D34: 14 | E34: =('16.Facility 5 Agri Input'!D191/365)*$D$34 -> 0 | F34: =('16.Facility 5 Agri Input'!E191/365)*$D$34 -> 0 | G34: =('16.Facility 5 Agri Input'!F191/365)*$D$34 -> 0 | H34: =('16.Facility 5 Agri Input'!G191/365)*$D$34 -> 0 | I34: =('16.Facility 5 Agri Input'!H191/365)*$D$34 -> 0 | J34: =('16.Facility 5 Agri Input'!I191/365)*$D$34 -> 0 | K34: =('16.Facility 5 Agri Input'!J191/365)*$D$34 -> 0
B35: 2 | C35: Custom Hiring | D35: 14 | E35: =('15. Facility 4 Custom Hiring'!E39/365)*$D$35 -> 0 | F35: =('15. Facility 4 Custom Hiring'!F39/365)*$D$35 -> 0 | G35: =('15. Facility 4 Custom Hiring'!G39/365)*$D$35 -> 0 | H35: =('15. Facility 4 Custom Hiring'!H39/365)*$D$35 -> 0 | I35: =('15. Facility 4 Custom Hiring'!I39/365)*$D$35 -> 0 | J35: =('15. Facility 4 Custom Hiring'!J39/365)*$D$35 -> 0 | K35: =('15. Facility 4 Custom Hiring'!K39/365)*$D$35 -> 0
B36: 3 | C36: Cleaning & Grading | D36: 14 | E36: =('12.Facility 1 - Trading'!D229/365)*$D$36 -> 788263.58 | F36: =('12.Facility 1 - Trading'!E229/365)*$D$36 -> 1077416.3 | G36: =('12.Facility 1 - Trading'!F229/365)*$D$36 -> 1359792.6 | H36: =('12.Facility 1 - Trading'!G229/365)*$D$36 -> 1667713 | I36: =('12.Facility 1 - Trading'!H229/365)*$D$36 -> 2003026 | J36: =('12.Facility 1 - Trading'!I229/365)*$D$36 -> 2367701 | K36: =('12.Facility 1 - Trading'!J229/365)*$D$36 -> 2763835.9
B37: 4 | C37: Dal Mill | D37: 14 | E37: =('13.Facility 2 Grain Processing'!D155/365)*$D$37 -> 1062591.2 | F37: =('13.Facility 2 Grain Processing'!E155/365)*$D$37 -> 1395676.4 | G37: =('13.Facility 2 Grain Processing'!F155/365)*$D$37 -> 1758552.3 | H37: =('13.Facility 2 Grain Processing'!G155/365)*$D$37 -> 2154226.6 | I37: =('13.Facility 2 Grain Processing'!H155/365)*$D$37 -> 2585071.9 | J37: =('13.Facility 2 Grain Processing'!I155/365)*$D$37 -> 3053616.2 | K37: =('13.Facility 2 Grain Processing'!J155/365)*$D$37 -> 3562552.2
B38: 5 | C38: Warehouse | D38: 14 | E38: =('14. Facility 3 Warehouse'!D23/365)*$D$38 -> 52195.068 | F38: =('14. Facility 3 Warehouse'!E23/365)*$D$38 -> 58719.452 | G38: =('14. Facility 3 Warehouse'!F23/365)*$D$38 -> 65765.786 | H38: =('14. Facility 3 Warehouse'!G23/365)*$D$38 -> 73369.955 | I38: =('14. Facility 3 Warehouse'!H23/365)*$D$38 -> 81570.127 | J38: =('14. Facility 3 Warehouse'!I23/365)*$D$38 -> 85648.633 | K38: =('14. Facility 3 Warehouse'!J23/365)*$D$38 -> 89931.065
B39: 6 | C39: Processing Unit - Horti Commodity | D39: 14 | E39: =('17.Facility 6 Horti Processing '!D159/365)*$D$39 -> 0 | F39: =('17.Facility 6 Horti Processing '!E159/365)*$D$39 -> 0 | G39: =('17.Facility 6 Horti Processing '!F159/365)*$D$39 -> 0 | H39: =('17.Facility 6 Horti Processing '!G159/365)*$D$39 -> 0 | I39: =('17.Facility 6 Horti Processing '!H159/365)*$D$39 -> 0 | J39: =('17.Facility 6 Horti Processing '!I159/365)*$D$39 -> 0 | K39: =('17.Facility 6 Horti Processing '!J159/365)*$D$39 -> 0
C41: Subtotal | E41: =SUM(E34:E40) -> 1903049.8 | F41: =SUM(F34:F40) -> 2531812.2 | G41: =SUM(G34:G40) -> 3184110.7 | H41: =SUM(H34:H40) -> 3895309.6 | I41: =SUM(I34:I40) -> 4669668 | J41: =SUM(J34:J40) -> 5506965.8 | K41: =SUM(K34:K40) -> 6416319.2
B42: B | C42: Closing Stock | E42: ='5.Closing Stock & W Capital'!E21 -> 2158193.8 | F42: ='5.Closing Stock & W Capital'!F21 -> 2832425.2 | G42: ='5.Closing Stock & W Capital'!G21 -> 3568855.8 | H42: ='5.Closing Stock & W Capital'!H21 -> 4371848.3 | I42: ='5.Closing Stock & W Capital'!I21 -> 5246218 | J42: ='5.Closing Stock & W Capital'!J21 -> 6197095 | K42: ='5.Closing Stock & W Capital'!K21 -> 7229944.2
B44: Total | E44: =SUM(E41:E42) -> 4061243.7 | F44: =SUM(F41:F42) -> 5364237.4 | G44: =SUM(G41:G42) -> 6752966.5 | H44: =SUM(H41:H42) -> 8267157.9 | I44: =SUM(I41:I42) -> 9915886 | J44: =SUM(J41:J42) -> 11704061 | K44: =SUM(K41:K42) -> 13646263
B46: C | C46: Accounts Payable & Accrued Expenses (Creditors)
B47: 1 | C47: =C34 -> Agri Input | D47: 7 | E47: =('16.Facility 5 Agri Input'!D262/365)*$D$47 -> 0 | F47: =('16.Facility 5 Agri Input'!E262/365)*$D$47 -> 0 | G47: =('16.Facility 5 Agri Input'!F262/365)*$D$47 -> 0 | H47: =('16.Facility 5 Agri Input'!G262/365)*$D$47 -> 0 | I47: =('16.Facility 5 Agri Input'!H262/365)*$D$47 -> 0 | J47: =('16.Facility 5 Agri Input'!I262/365)*$D$47 -> 0 | K47: =('16.Facility 5 Agri Input'!J262/365)*$D$47 -> 0
B48: 2 | C48: =C35 -> Custom Hiring | D48: 7 | E48: =('15. Facility 4 Custom Hiring'!E49/365)*$D$49 -> 0 | F48: =('15. Facility 4 Custom Hiring'!F49/365)*$D$49 -> 0 | G48: =('15. Facility 4 Custom Hiring'!G49/365)*$D$49 -> 0 | H48: =('15. Facility 4 Custom Hiring'!H49/365)*$D$49 -> 0 | I48: =('15. Facility 4 Custom Hiring'!I49/365)*$D$49 -> 0 | J48: =('15. Facility 4 Custom Hiring'!J49/365)*$D$49 -> 0 | K48: =('15. Facility 4 Custom Hiring'!K49/365)*$D$49 -> 0
B49: 3 | C49: =C36 -> Cleaning & Grading | D49: 7 | E49: =('12.Facility 1 - Trading'!D292/365)*$D$49 -> 390361.86 | F49: =('12.Facility 1 - Trading'!E292/365)*$D$49 -> 532552.76 | G49: =('12.Facility 1 - Trading'!F292/365)*$D$49 -> 672077.13 | H49: =('12.Facility 1 - Trading'!G292/365)*$D$49 -> 824222.55 | I49: =('12.Facility 1 - Trading'!H292/365)*$D$49 -> 989902.32 | J49: =('12.Facility 1 - Trading'!I292/365)*$D$49 -> 1170089.5 | K49: =('12.Facility 1 - Trading'!J292/365)*$D$49 -> 1365820.7
B50: 4 | C50: =C37 -> Dal Mill | D50: 7 | E50: =('13.Facility 2 Grain Processing'!D182/365)*$D$50 -> 407244.69 | F50: =('13.Facility 2 Grain Processing'!E182/365)*$D$50 -> 555229.89 | G50: =('13.Facility 2 Grain Processing'!F182/365)*$D$50 -> 700698.07 | H50: =('13.Facility 2 Grain Processing'!G182/365)*$D$50 -> 859328.29 | I50: =('13.Facility 2 Grain Processing'!H182/365)*$D$50 -> 1032069.8 | J50: =('13.Facility 2 Grain Processing'!I182/365)*$D$50 -> 1219937.1 | K50: =('13.Facility 2 Grain Processing'!J182/365)*$D$50 -> 1424011
B51: 5 | C51: =C38 -> Warehouse | D51: 7 | E51: =('14. Facility 3 Warehouse'!D34/365)*$D$51 -> 10172.055 | F51: =('14. Facility 3 Warehouse'!E34/365)*$D$51 -> 10680.658 | G51: =('14. Facility 3 Warehouse'!F34/365)*$D$51 -> 11214.69 | H51: =('14. Facility 3 Warehouse'!G34/365)*$D$51 -> 11775.425 | I51: =('14. Facility 3 Warehouse'!H34/365)*$D$51 -> 12364.196 | J51: =('14. Facility 3 Warehouse'!I34/365)*$D$51 -> 12982.406 | K51: =('14. Facility 3 Warehouse'!J34/365)*$D$51 -> 13631.526
C52: =C39 -> Processing Unit - Horti Commodity | D52: 7 | E52: =('17.Facility 6 Horti Processing '!D177/365)*$D$52 -> 0 | F52: =('17.Facility 6 Horti Processing '!E177/365)*$D$52 -> 0 | G52: =('17.Facility 6 Horti Processing '!F177/365)*$D$52 -> 0 | H52: =('17.Facility 6 Horti Processing '!G177/365)*$D$52 -> 0 | I52: =('17.Facility 6 Horti Processing '!H177/365)*$D$52 -> 0 | J52: =('17.Facility 6 Horti Processing '!I177/365)*$D$52 -> 0 | K52: =('17.Facility 6 Horti Processing '!J177/365)*$D$52 -> 0
...

Sheet 6.Cons Profit & Loss
A2: 6.1 Consolidated Profit and loss account for the Project
A5: Particulars | B5: Y1 | C5: Y2 | D5: Y3 | E5: Y4 | F5: Y5 | G5: Y6 | H5: Y7
A6: Revenue
A8: Faclitiy 1 - Trading | B8: ='12.Facility 1 - Trading'!D229 -> 20551158 | C8: ='12.Facility 1 - Trading'!E229 -> 28089783 | D8: ='12.Facility 1 - Trading'!F229 -> 35451736 | E8: ='12.Facility 1 - Trading'!G229 -> 43479661 | F8: ='12.Facility 1 - Trading'!H229 -> 52221749 | G8: ='12.Facility 1 - Trading'!I229 -> 61729347 | H8: ='12.Facility 1 - Trading'!J229 -> 72057150
A9: Faclitiy 2 - Processing Unit- Cleaning Grading | B9: ='13.Facility 2 Grain Processing'!D155 -> 27703270 | C9: ='13.Facility 2 Grain Processing'!E155 -> 36387279 | D9: ='13.Facility 2 Grain Processing'!F155 -> 45847971 | E9: ='13.Facility 2 Grain Processing'!G155 -> 56163765 | F9: ='13.Facility 2 Grain Processing'!H155 -> 67396518 | G9: ='13.Facility 2 Grain Processing'!I155 -> 79612137 | H9: ='13.Facility 2 Grain Processing'!J155 -> 92880826
A10: Faclitiy 3 - Warehouse | B10: ='14. Facility 3 Warehouse'!D23 -> 1360800 | C10: ='14. Facility 3 Warehouse'!E23 -> 1530900 | D10: ='14. Facility 3 Warehouse'!F23 -> 1714608 | E10: ='14. Facility 3 Warehouse'!G23 -> 1912859.6 | F10: ='14. Facility 3 Warehouse'!H23 -> 2126649.7 | G10: ='14. Facility 3 Warehouse'!I23 -> 2232982.2 | H10: ='14. Facility 3 Warehouse'!J23 -> 2344631.3
A11: Faclitiy 4 - Custom Hiring | B11: ='15. Facility 4 Custom Hiring'!E39 -> 0 | C11: ='15. Facility 4 Custom Hiring'!F39 -> 0 | D11: ='15. Facility 4 Custom Hiring'!G39 -> 0 | E11: ='15. Facility 4 Custom Hiring'!H39 -> 0 | F11: ='15. Facility 4 Custom Hiring'!I39 -> 0 | G11: ='15. Facility 4 Custom Hiring'!J39 -> 0 | H11: ='15. Facility 4 Custom Hiring'!K39 -> 0
A12: Faclitiy 5 - Agri Input Centre | B12: ='16.Facility 5 Agri Input'!D191 -> 0 | C12: ='16.Facility 5 Agri Input'!E191 -> 0 | D12: ='16.Facility 5 Agri Input'!F191 -> 0 | E12: ='16.Facility 5 Agri Input'!G191 -> 0 | F12: ='16.Facility 5 Agri Input'!H191 -> 0 | G12: ='16.Facility 5 Agri Input'!I191 -> 0 | H12: ='16.Facility 5 Agri Input'!J191 -> 0
A13: Facility 6 - Processing Unit - Horti Commodity | B13: ='17.Facility 6 Horti Processing '!D159 -> 0 | C13: ='17.Facility 6 Horti Processing '!E159 -> 0 | D13: ='17.Facility 6 Horti Processing '!F159 -> 0 | E13: ='17.Facility 6 Horti Processing '!G159 -> 0 | F13: ='17.Facility 6 Horti Processing '!H159 -> 0 | G13: ='17.Facility 6 Horti Processing '!I159 -> 0 | H13: ='17.Facility 6 Horti Processing '!J159 -> 0
A15: Total Revenue | B15: =SUM(B8:B14) -> 49615228 | C15: =SUM(C8:C14) -> 66007961 | D15: =SUM(D8:D14) -> 83014316 | E15: =SUM(E8:E14) -> 1.0155629e+08 | F15: =SUM(F8:F14) -> 1.2174492e+08 | G15: =SUM(G8:G14) -> 1.4357447e+08 | H15: =SUM(H8:H14) -> 1.6728261e+08
A17: Variable Cost
A18: =A8 -> Faclitiy 1 - Trading | B18: ='12.Facility 1 - Trading'!D292 -> 20354583 | C18: ='12.Facility 1 - Trading'!E292 -> 27768823 | D18: ='12.Facility 1 - Trading'!F292 -> 35044022 | E18: ='12.Facility 1 - Trading'!G292 -> 42977319 | F18: ='12.Facility 1 - Trading'!H292 -> 51616335 | G18: ='12.Facility 1 - Trading'!I292 -> 61011810 | H18: ='12.Facility 1 - Trading'!J292 -> 71217792
A19: =A9 -> Faclitiy 2 - Processing Unit- Cleaning Grading | B19: ='13.Facility 2 Grain Processing'!D182 -> 21234901 | C19: ='13.Facility 2 Grain Processing'!E182 -> 28951273 | D19: ='13.Facility 2 Grain Processing'!F182 -> 36536400 | E19: ='13.Facility 2 Grain Processing'!G182 -> 44807832 | F19: ='13.Facility 2 Grain Processing'!H182 -> 53815067 | G19: ='13.Facility 2 Grain Processing'!I182 -> 63611006 | H19: ='13.Facility 2 Grain Processing'!J182 -> 74252001
A20: =A10 -> Faclitiy 3 - Warehouse | B20: ='14. Facility 3 Warehouse'!D34 -> 530400 | C20: ='14. Facility 3 Warehouse'!E34 -> 556920 | D20: ='14. Facility 3 Warehouse'!F34 -> 584766 | E20: ='14. Facility 3 Warehouse'!G34 -> 614004.3 | F20: ='14. Facility 3 Warehouse'!H34 -> 644704.52 | G20: ='14. Facility 3 Warehouse'!I34 -> 676939.74 | H20: ='14. Facility 3 Warehouse'!J34 -> 710786.73
A21: =A11 -> Faclitiy 4 - Custom Hiring | B21: ='15. Facility 4 Custom Hiring'!E49 -> 0 | C21: ='15. Facility 4 Custom Hiring'!F49 -> 0 | D21: ='15. Facility 4 Custom Hiring'!G49 -> 0 | E21: ='15. Facility 4 Custom Hiring'!H49 -> 0 | F21: ='15. Facility 4 Custom Hiring'!I49 -> 0 | G21: ='15. Facility 4 Custom Hiring'!J49 -> 0 | H21: ='15. Facility 4 Custom Hiring'!K49 -> 0
A22: =A12 -> Faclitiy 5 - Agri Input Centre | B22: ='16.Facility 5 Agri Input'!D262 -> 0 | C22: ='16.Facility 5 Agri Input'!E262 -> 0 | D22: ='16.Facility 5 Agri Input'!F262 -> 0 | E22: ='16.Facility 5 Agri Input'!G262 -> 0 | F22: ='16.Facility 5 Agri Input'!H262 -> 0 | G22: ='16.Facility 5 Agri Input'!I262 -> 0 | H22: ='16.Facility 5 Agri Input'!J262 -> 0
A23: =A13 -> Facility 6 - Processing Unit - Horti Commodity | B23: ='17.Facility 6 Horti Processing '!D177 -> 0 | C23: ='17.Facility 6 Horti Processing '!E177 -> 0 | D23: ='17.Facility 6 Horti Processing '!F177 -> 0 | E23: ='17.Facility 6 Horti Processing '!G177 -> 0 | F23: ='17.Facility 6 Horti Processing '!H177 -> 0 | G23: ='17.Facility 6 Horti Processing '!I177 -> 0 | H23: ='17.Facility 6 Horti Processing '!J177 -> 0
A25: Total Variable Cost | B25: =SUM(B18:B24) -> 42119884 | C25: =SUM(C18:C24) -> 57277015 | D25: =SUM(D18:D24) -> 72165187 | E25: =SUM(E18:E24) -> 88399155 | F25: =SUM(F18:F24) -> 1.0607611e+08 | G25: =SUM(G18:G24) -> 1.2529976e+08 | H25: =SUM(H18:H24) -> 1.4618058e+08
A27: Fixed Cost
A28: =A18 -> Faclitiy 1 - Trading | B28: ='12.Facility 1 - Trading'!D301 -> 120000 | C28: ='12.Facility 1 - Trading'!E301 -> 126000 | D28: ='12.Facility 1 - Trading'!F301 -> 132300 | E28: ='12.Facility 1 - Trading'!G301 -> 138915 | F28: ='12.Facility 1 - Trading'!H301 -> 145860.75 | G28: ='12.Facility 1 - Trading'!I301 -> 153153.79 | H28: ='12.Facility 1 - Trading'!J301 -> 160811.48
A29: =A19 -> Faclitiy 2 - Processing Unit- Cleaning Grading | B29: ='13.Facility 2 Grain Processing'!D190 -> 240000 | C29: ='13.Facility 2 Grain Processing'!E190 -> 252000 | D29: ='13.Facility 2 Grain Processing'!F190 -> 264600 | E29: ='13.Facility 2 Grain Processing'!G190 -> 277830 | F29: ='13.Facility 2 Grain Processing'!H190 -> 291721.5 | G29: ='13.Facility 2 Grain Processing'!I190 -> 306307.58 | H29: ='13.Facility 2 Grain Processing'!J190 -> 321622.95
A30: =A20 -> Faclitiy 3 - Warehouse | B30: ='14. Facility 3 Warehouse'!D43 -> 300000 | C30: ='14. Facility 3 Warehouse'!E43 -> 315000 | D30: ='14. Facility 3 Warehouse'!F43 -> 330750 | E30: ='14. Facility 3 Warehouse'!G43 -> 347287.5 | F30: ='14. Facility 3 Warehouse'!H43 -> 364651.88 | G30: ='14. Facility 3 Warehouse'!I43 -> 382884.47 | H30: ='14. Facility 3 Warehouse'!J43 -> 402028.69
A31: =A21 -> Faclitiy 4 - Custom Hiring | B31: ='15. Facility 4 Custom Hiring'!E56 -> 0 | C31: ='15. Facility 4 Custom Hiring'!F56 -> 0 | D31: ='15. Facility 4 Custom Hiring'!G56 -> 0 | E31: ='15. Facility 4 Custom Hiring'!H56 -> 0 | F31: ='15. Facility 4 Custom Hiring'!I56 -> 0 | G31: ='15. Facility 4 Custom Hiring'!J56 -> 0 | H31: ='15. Facility 4 Custom Hiring'!K56 -> 0
A32: =A22 -> Faclitiy 5 - Agri Input Centre | B32: ='16.Facility 5 Agri Input'!D273 -> 0 | C32: ='16.Facility 5 Agri Input'!E273 -> 0 | D32: ='16.Facility 5 Agri Input'!F273 -> 0 | E32: ='16.Facility 5 Agri Input'!G273 -> 0 | F32: ='16.Facility 5 Agri Input'!H273 -> 0 | G32: ='16.Facility 5 Agri Input'!I273 -> 0 | H32: ='16.Facility 5 Agri Input'!J273 -> 0
A33: =A23 -> Facility 6 - Processing Unit - Horti Commodity | B33: ='17.Facility 6 Horti Processing '!D185 -> 0 | C33: ='17.Facility 6 Horti Processing '!E185 -> 0 | D33: ='17.Facility 6 Horti Processing '!F185 -> 0 | E33: ='17.Facility 6 Horti Processing '!G185 -> 0 | F33: ='17.Facility 6 Horti Processing '!H185 -> 0 | G33: ='17.Facility 6 Horti Processing '!I185 -> 0 | H33: ='17.Facility 6 Horti Processing '!J185 -> 0
A35: Admin Expenses | B35: ='3.Other Exp & Taxes'!E24 -> 2813200 | C35: ='3.Other Exp & Taxes'!F24 -> 2953860 | D35: ='3.Other Exp & Taxes'!G24 -> 3101553 | E35: ='3.Other Exp & Taxes'!H24 -> 3256630.7 | F35: ='3.Other Exp & Taxes'!I24 -> 3419462.2 | G35: ='3.Other Exp & Taxes'!J24 -> 3590435.3 | H35: ='3.Other Exp & Taxes'!K24 -> 3769957.1
A36: Total Fixed Cost | B36: =SUM(B28:B35) -> 3473200 | C36: =SUM(C28:C35) -> 3646860 | D36: =SUM(D28:D35) -> 3829203 | E36: =SUM(E28:E35) -> 4020663.2 | F36: =SUM(F28:F35) -> 4221696.3 | G36: =SUM(G28:G35) -> 4432781.1 | H36: =SUM(H28:H35) -> 4654420.2
A38: Total Cost | B38: =B25+B36 -> 45593084 | C38: =C25+C36 -> 60923875 | D38: =D25+D36 -> 75994390 | E38: =E25+E36 -> 92419818 | F38: =F25+F36 -> 1.102978e+08 | G38: =G25+G36 -> 1.2973254e+08 | H38: =H25+H36 -> 1.50835e+08
A40: Profit Before Depreciation ,Interest and Tax | B40: =B15-B38 -> 4022144.1 | C40: =C15-C38 -> 5084085.8 | D40: =D15-D38 -> 7019925.3 | E40: =E15-E38 -> 9136467 | F40: =F15-F38 -> 11447113 | G40: =G15-G38 -> 13841928 | H40: =H15-H38 -> 16447607 | J40: =B49+B42+B43 -> 2673341.9
J41: ='5.Closing Stock & W Capital'!E56 -> 813366.27
A42: Depreciation | B42: ='3.Other Exp & Taxes'!C67 -> 956902.47 | C42: ='3.Other Exp & Taxes'!D67 -> 956902.47 | D42: ='3.Other Exp & Taxes'!E67 -> 956902.47 | E42: ='3.Other Exp & Taxes'!F67 -> 956902.47 | F42: ='3.Other Exp & Taxes'!G67 -> 956902.47 | G42: ='3.Other Exp & Taxes'!H67 -> 956902.47 | H42: ='3.Other Exp & Taxes'!I67 -> 956902.47 | J42: =J40+J41 -> 3486708.2
A43: Amortization | B43: ='3.Other Exp & Taxes'!C87 -> 265000 | C43: ='3.Other Exp & Taxes'!D87 -> 265000 | D43: ='3.Other Exp & Taxes'!E87 -> 265000 | E43: ='3.Other Exp & Taxes'!F87 -> 265000 | F43: ='3.Other Exp & Taxes'!G87 -> 265000 | G43: ='3.Other Exp & Taxes'!H87 -> 0 | H43: ='3.Other Exp & Taxes'!I87 -> 0
A45: Profit Before Interest and Tax | B45: =B40-B42-B43 -> 2800241.6 | C45: =C40-C42-C43 -> 3862183.4 | D45: =D40-D42-D43 -> 5798022.8 | E45: =E40-E42-E43 -> 7914564.6 | F45: =F40-F42-F43 -> 10225211 | G45: =G40-G42-G43 -> 12885026 | H45: =H40-H42-H43 -> 15490704
A47: Interest on Term loan | B47: ='8.Cash Flow '!C26+'8.Cash Flow '!C28 -> 1348802.1 | C47: ='8.Cash Flow '!D26+'8.Cash Flow '!D28 -> 1408984.9 | D47: ='8.Cash Flow '!E26+'8.Cash Flow '!E28 -> 1330668.8 | E47: ='8.Cash Flow '!F26+'8.Cash Flow '!F28 -> 1232844.7 | F47: ='8.Cash Flow '!G26+'8.Cash Flow '!G28 -> 1111678.5 | G47: ='8.Cash Flow '!H26+'8.Cash Flow '!H28 -> 962119.56 | H47: ='8.Cash Flow '!I26+'8.Cash Flow '!I28 -> 779455.85
A49: Profit Before Tax | B49: =B45-B47 -> 1451439.4 | C49: =C45-C47 -> 2453198.5 | D49: =D45-D47 -> 4467354 | E49: =E45-E47 -> 6681719.9 | F49: =F45-F47 -> 9113532.2 | G49: =G45-G47 -> 11922906 | H49: =H45-H47 -> 14711248
A50: Less. Tax | B50: ='3.Other Exp & Taxes'!B100 -> -82054.489 | C50: ='3.Other Exp & Taxes'!C100 -> 255705.64 | D50: ='3.Other Exp & Taxes'!D100 -> 847986.51 | E50: ='3.Other Exp & Taxes'!E100 -> 1484635.8 | F50: ='3.Other Exp & Taxes'!F100 -> 2171027.4 | G50: ='3.Other Exp & Taxes'!G100 -> 2949576 | H50: ='3.Other Exp & Taxes'!H100 -> 3717337.8
A51: Profit After Tax | B51: =B49-B50 -> 1533493.9 | C51: =C49-C50 -> 2197492.9 | D51: =D49-D50 -> 3619367.5 | E51: =E49-E50 -> 5197084.1 | F51: =F49-F50 -> 6942504.8 | G51: =G49-G50 -> 8973330.1 | H51: =H49-H50 -> 10993911
A53: Cumuilative Profit | B53: =B51 -> 1533493.9 | C53: =B53+C51 -> 3730986.8 | D53: =C53+D51 -> 7350354.3 | E53: =D53+E51 -> 12547438 | F53: =E53+F51 -> 19489943 | G53: =F53+G51 -> 28463273 | H53: =G53+H51 -> 39457184
A56: Projected Consolidated Profit and Loss account is to give a projection of how much money you will bring in by selling products or services and how much profit you will make from these sales.

Sheet 7.Balance Sheet
A2: 7.1 Balancesheet for the Project
A4: Particulars | B4: Y1 | C4: Y2 | D4: Y3 | E4: Y4 | F4: Y5 | G4: Y6 | H4: Y7
A6: ASSETS
A7: Current Assets
A8: Cash and Bank Balance | B8: ='8.Cash Flow '!C33 -> 2933646.3 | C8: ='8.Cash Flow '!D33 -> 4942184.1 | D8: ='8.Cash Flow '!E33 -> 8161896.3 | E8: ='8.Cash Flow '!F33 -> 12717158 | F8: ='8.Cash Flow '!G33 -> 18739509 | G8: ='8.Cash Flow '!H33 -> 26207785 | H8: ='8.Cash Flow '!I33 -> 35328968
A9: Accounts Receivables
A10: Other Current Assets
A11: Total Current Assets | B11: =SUM(B8:B10) -> 2933646.3 | C11: =SUM(C8:C10) -> 4942184.1 | D11: =SUM(D8:D10) -> 8161896.3 | E11: =SUM(E8:E10) -> 12717158 | F11: =SUM(F8:F10) -> 18739509 | G11: =SUM(G8:G10) -> 26207785 | H11: =SUM(H8:H10) -> 35328968
A13: Gross Fixed Assets | B13: ='3.Other Exp & Taxes'!C66 -> 25577711 | C13: ='3.Other Exp & Taxes'!D66 -> 24620809 | D13: ='3.Other Exp & Taxes'!E66 -> 23663906 | E13: ='3.Other Exp & Taxes'!F66 -> 22707004 | F13: ='3.Other Exp & Taxes'!G66 -> 21750101 | G13: ='3.Other Exp & Taxes'!H66 -> 20793199 | H13: ='3.Other Exp & Taxes'!I66 -> 19836296
A14: Less: Depriciation | B14: ='3.Other Exp & Taxes'!C67 -> 956902.47 | C14: ='3.Other Exp & Taxes'!D67 -> 956902.47 | D14: ='3.Other Exp & Taxes'!E67 -> 956902.47 | E14: ='3.Other Exp & Taxes'!F67 -> 956902.47 | F14: ='3.Other Exp & Taxes'!G67 -> 956902.47 | G14: ='3.Other Exp & Taxes'!H67 -> 956902.47 | H14: ='3.Other Exp & Taxes'!I67 -> 956902.47
A15: Net Fixed Assets | B15: =B13-B14 -> 24620809 | C15: =C13-C14 -> 23663906 | D15: =D13-D14 -> 22707004 | E15: =E13-E14 -> 21750101 | F15: =F13-F14 -> 20793199 | G15: =G13-G14 -> 19836296 | H15: =H13-H14 -> 18879394
A18: Preliminary & Pre- operative Expenses | B18: ='8.Cash Flow '!C20-'6.Cons Profit & Loss'!B43 -> 1060000 | C18: =B18-'6.Cons Profit & Loss'!C43 -> 795000 | D18: =C18-'6.Cons Profit & Loss'!D43 -> 530000 | E18: =D18-'6.Cons Profit & Loss'!E43 -> 265000 | F18: =E18-'6.Cons Profit & Loss'!F43 -> 0 | G18: =F18-'6.Cons Profit & Loss'!G43 -> 0 | H18: =G18-'6.Cons Profit & Loss'!H43 -> 0
A20: TOTAL ASSETS | B20: =B11+B15+B17+B18 -> 28614455 | C20: =C11+C15+C17+C18 -> 29401090 | D20: =D11+D15+D17+D18 -> 31398900 | E20: =E11+E15+E17+E18 -> 34732259 | F20: =F11+F15+F17+F18 -> 39532707 | G20: =G11+G15+G17+G18 -> 46044081 | H20: =H11+H15+H17+H18 -> 54208362
A22: LIABILITIES & SHAREHOLDERS EQUITY
A23: CURRENT LIABILITIES
A24: Short Term Debt (Working capital loan)
A25: Accounts Payable & Accrued Expenses
A26: Other Current Liabilities
A27: Total Curent Liabilities | B27: =SUM(B24:B26) -> 0 | C27: =SUM(C24:C26) -> 0 | D27: =SUM(D24:D26) -> 0 | E27: =SUM(E24:E26) -> 0 | F27: =SUM(F24:F26) -> 0 | G27: =SUM(G24:G26) -> 0 | H27: =SUM(H24:H26) -> 0
A28: Secured Long Term Debt | B28: ='4.TL repayment sch'!G21 -> 7038196.9 | C28: ='4.TL repayment sch'!G33 -> 5627339.4 | D28: ='4.TL repayment sch'!G45 -> 4005781.6 | E28: ='4.TL repayment sch'!G57 -> 2142057 | F28: ='4.TL repayment sch'!G69 -> -5.5297278e-10 | G28: ='4.TL repayment sch'!G81 -> -2461956.1 | H28: ='[1]Term Loan'!J72+'[1]Term Loan'!S72 -> 0
A29: Differed Tax Liabilities
A31: TOTAL LIABILITIES | B31: =SUM(B27:B29) -> 7038196.9 | C31: =SUM(C27:C29) -> 5627339.4 | D31: =SUM(D27:D29) -> 4005781.6 | E31: =SUM(E27:E29) -> 2142057 | F31: =SUM(F27:F29) -> -5.5297278e-10 | G31: =SUM(G27:G29) -> -2461956.1 | H31: =SUM(H27:H29) -> 0
A33: Share capital | B33: ='1.Project Cost and MOF'!E21 -> 3901137.4 | C33: =B33 -> 3901137.4 | D33: =C33 -> 3901137.4 | E33: =D33 -> 3901137.4 | F33: =E33 -> 3901137.4 | G33: =F33 -> 3901137.4 | H33: =G33 -> 3901137.4
A34: Smart Grant -in-Aid | B34: ='1.Project Cost and MOF'!E19 -> 16141627 | C34: =B34 -> 16141627 | D34: =C34 -> 16141627 | E34: =D34 -> 16141627 | F34: =E34 -> 16141627 | G34: =F34 -> 16141627 | H34: =G34 -> 16141627
A35: Reserves and Surplus
A36: Add: Opening Balance (P/L Account) | B36: 0 | C36: =B39 -> 1533493.9 | D36: =C39 -> 3730986.8 | E36: =D39 -> 7350354.3 | F36: =E39 -> 12547438 | G36: =F39 -> 19489943 | H36: =G39 -> 28463273
A37: Profit & Loss) During the Year | B37: ='6.Cons Profit & Loss'!B53 -> 1533493.9 | C37: ='6.Cons Profit & Loss'!C51 -> 2197492.9 | D37: ='6.Cons Profit & Loss'!D51 -> 3619367.5 | E37: ='6.Cons Profit & Loss'!E51 -> 5197084.1 | F37: ='6.Cons Profit & Loss'!F51 -> 6942504.8 | G37: ='6.Cons Profit & Loss'!G51 -> 8973330.1 | H37: ='6.Cons Profit & Loss'!H51 -> 10993911
A38: Appropriation - Dividend
A39: Total Reserves | B39: =B36+B37-B38 -> 1533493.9 | C39: =C36+C37-C38 -> 3730986.8 | D39: =D36+D37-D38 -> 7350354.3 | E39: =E36+E37-E38 -> 12547438 | F39: =F36+F37-F38 -> 19489943 | G39: =G36+G37-G38 -> 28463273 | H39: =H36+H37-H38 -> 39457184
A41: TOTAL EQUITY | B41: =B33+B39+B34 -> 21576258 | C41: =C33+C39+C34 -> 23773751 | D41: =D33+D39+D34 -> 27393118 | E41: =E33+E39+E34 -> 32590202 | F41: =F33+F39+F34 -> 39532707 | G41: =G33+G39+G34 -> 48506037 | H41: =H33+H39+H34 -> 59499948
A43: TOTAL LIABILITIES & EQUITY | B43: =B31+B41 -> 28614455 | C43: =C31+C41 -> 29401090 | D43: =D31+D41 -> 31398900 | E43: =E31+E41 -> 34732259 | F43: =F31+F41 -> 39532707 | G43: =G31+G41 -> 46044081 | H43: =H31+H41 -> 59499948
A45: CONTROL TICKER
A46: (=Liability - Asset) | B46: =B43-B20 -> 0 | C46: =C43-C20 -> 0 | D46: =D43-D20 -> 0 | E46: =E43-E20 -> 0 | F46: =F43-F20 -> 0 | G46: =G43-G20 -> 0 | H46: =H43-H20 -> 5291585.8

Sheet 8.Cash Flow 
A2: 8.1 Cash Flow Statement for the Project
A4: Sr. | B4: Particulars | C4: Y1 | D4: Y2 | E4: Y3 | F4: Y4 | G4: Y5 | H4: Y6 | I4: Y7
A5: 1 | B5: Operating Profit
B6: Total Revnue | C6: ='6.Cons Profit & Loss'!B15 -> 49615228 | D6: ='6.Cons Profit & Loss'!C15 -> 66007961 | E6: ='6.Cons Profit & Loss'!D15 -> 83014316 | F6: ='6.Cons Profit & Loss'!E15 -> 1.0155629e+08 | G6: ='6.Cons Profit & Loss'!F15 -> 1.2174492e+08 | H6: ='6.Cons Profit & Loss'!G15 -> 1.4357447e+08 | I6: ='6.Cons Profit & Loss'!H15 -> 1.6728261e+08
A7: 2 | B7: Equity/ Share capital | C7: ='1.Project Cost and MOF'!E21 -> 3901137.4
B8: Reivestment
A9: 3 | B9: ='7.Balance Sheet'!A34 -> Smart Grant -in-Aid | C9: ='1.Project Cost and MOF'!E19 -> 16141627
A10: 4 | B10: Long Term Loan | C10: ='1.Project Cost and MOF'!E20 -> 7673313.3
A11: 5 | B11: Short Term Loan | C11: ='5.Closing Stock & W Capital'!E55*75% -> 2440098.8 | D11: ='5.Closing Stock & W Capital'!F55 -> 4265774.1 | E11: ='5.Closing Stock & W Capital'!G55 -> 5368976.6 | F11: ='5.Closing Stock & W Capital'!H55 -> 6571831.7 | G11: ='5.Closing Stock & W Capital'!I55 -> 7881549.7 | H11: ='5.Closing Stock & W Capital'!J55 -> 9301051.8 | I11: ='5.Closing Stock & W Capital'!K55 -> 10842800
B12: Sub Total (A) | C12: =SUM(C6:C11) -> 79771404 | D12: =SUM(D6:D11) -> 70273735 | E12: =SUM(E6:E11) -> 88383292 | F12: =SUM(F6:F11) -> 1.0812812e+08 | G12: =SUM(G6:G11) -> 1.2962647e+08 | H12: =SUM(H6:H11) -> 1.5287552e+08 | I12: =SUM(I6:I11) -> 1.7812541e+08
A13: Cash Outflow (Rs.)
A14: 1 | B14: Capital Expenditure
A15: a | B15: ='[1]Total Cost of Project'!C3 -> Land and Building | C15: ='1.Project Cost and MOF'!D5 -> 21653053
A16: b | B16: ='[1]Total Cost of Project'!C4 -> Machinery and Equipment | C16: ='1.Project Cost and MOF'!D6 -> 3323300
A17: c | B17: Furniture & Fixture | C17: ='1.Project Cost and MOF'!D7 -> 601357.98
A18: d | B18: It Infrastructure | C18: ='1.Project Cost and MOF'!D8 -> 0
A19: e | B19: Vehicle | C19: ='1.Project Cost and MOF'!D9 -> 0
A20: f | B20: Premilinary Expenses | C20: ='1.Project Cost and MOF'!D10 -> 1325000
A21: 2 | B21: Operational Expenditure
A22: a | B22: Variable Cost | C22: ='6.Cons Profit & Loss'!B25 -> 42119884 | D22: ='6.Cons Profit & Loss'!C25 -> 57277015 | E22: ='6.Cons Profit & Loss'!D25 -> 72165187 | F22: ='6.Cons Profit & Loss'!E25 -> 88399155 | G22: ='6.Cons Profit & Loss'!F25 -> 1.0607611e+08 | H22: ='6.Cons Profit & Loss'!G25 -> 1.2529976e+08 | I22: ='6.Cons Profit & Loss'!H25 -> 1.4618058e+08
A23: b | B23: Fixed Cost | C23: ='6.Cons Profit & Loss'!B36 -> 3473200 | D23: ='6.Cons Profit & Loss'!C36 -> 3646860 | E23: ='6.Cons Profit & Loss'!D36 -> 3829203 | F23: ='6.Cons Profit & Loss'!E36 -> 4020663.2 | G23: ='6.Cons Profit & Loss'!F36 -> 4221696.3 | H23: ='6.Cons Profit & Loss'!G36 -> 4432781.1 | I23: ='6.Cons Profit & Loss'!H36 -> 4654420.2
A24: 3 | B24: Loan Repayment
B25: LTL - Principal | C25: =SUM('4.TL repayment sch'!E10:E21) -> 635116.38 | D25: =SUM('4.TL repayment sch'!E22:E33) -> 1410857.5 | E25: =SUM('4.TL repayment sch'!E34:E45) -> 1621557.8 | F25: =SUM('4.TL repayment sch'!E46:E57) -> 1863724.6 | G25: =SUM('4.TL repayment sch'!E58:E69) -> 2142057 | H25: =SUM('4.TL repayment sch'!E70:E81) -> 2461956.1 | I25: =SUM('4.TL repayment sch'!E82:E93) -> 2829629.6
